BEGIN:VCALENDAR
VERSION:2.0
PRODID:-//Bayreuther Kinder- und Spatzenchor an der Hochschule f&uuml;r evangelische Kirchenmusik e.V. - ECPv6.15.20//NONSGML v1.0//EN
CALSCALE:GREGORIAN
METHOD:PUBLISH
X-WR-CALNAME:Bayreuther Kinder- und Spatzenchor an der Hochschule f&uuml;r evangelische Kirchenmusik e.V.
X-ORIGINAL-URL:https://kinderchor-bayreuth.de
X-WR-CALDESC:Veranstaltungen für Bayreuther Kinder- und Spatzenchor an der Hochschule f&uuml;r evangelische Kirchenmusik e.V.
REFRESH-INTERVAL;VALUE=DURATION:PT1H
X-Robots-Tag:noindex
X-PUBLISHED-TTL:PT1H
BEGIN:VTIMEZONE
TZID:Europe/Paris
BEGIN:DAYLIGHT
TZOFFSETFROM:+0100
TZOFFSETTO:+0200
TZNAME:CEST
DTSTART:20250330T010000
END:DAYLIGHT
BEGIN:STANDARD
TZOFFSETFROM:+0200
TZOFFSETTO:+0100
TZNAME:CET
DTSTART:20251026T010000
END:STANDARD
BEGIN:DAYLIGHT
TZOFFSETFROM:+0100
TZOFFSETTO:+0200
TZNAME:CEST
DTSTART:20260329T010000
END:DAYLIGHT
BEGIN:STANDARD
TZOFFSETFROM:+0200
TZOFFSETTO:+0100
TZNAME:CET
DTSTART:20261025T010000
END:STANDARD
BEGIN:DAYLIGHT
TZOFFSETFROM:+0100
TZOFFSETTO:+0200
TZNAME:CEST
DTSTART:20270328T010000
END:DAYLIGHT
BEGIN:STANDARD
TZOFFSETFROM:+0200
TZOFFSETTO:+0100
TZNAME:CET
DTSTART:20271031T010000
END:STANDARD
END:VTIMEZONE
BEGIN:VEVENT
DTSTART;TZID=Europe/Paris:20260423T150000
DTEND;TZID=Europe/Paris:20260423T154500
DTSTAMP:20260422T022938
CREATED:20250823T174450Z
LAST-MODIFIED:20250823T174450Z
UID:1572-1776956400-1776959100@kinderchor-bayreuth.de
SUMMARY:Spatzenchor-Probe
DESCRIPTION:
URL:https://kinderchor-bayreuth.de/termine/spatzenchor-probe-13/
LOCATION:HfK\, Wilhelminenstraße 9\, Bayreuth\, 95444\, Germany
CATEGORIES:Spatzenchor
END:VEVENT
BEGIN:VEVENT
DTSTART;TZID=Europe/Paris:20260423T160000
DTEND;TZID=Europe/Paris:20260423T170000
DTSTAMP:20260422T022938
CREATED:20250823T160144Z
LAST-MODIFIED:20250823T160235Z
UID:1442-1776960000-1776963600@kinderchor-bayreuth.de
SUMMARY:Kinderchor-Probe
DESCRIPTION:
URL:https://kinderchor-bayreuth.de/termine/kinderchor-probe-13/
LOCATION:HfK\, Wilhelminenstraße 9\, Bayreuth\, 95444\, Germany
CATEGORIES:Kinderchor
END:VEVENT
BEGIN:VEVENT
DTSTART;TZID=Europe/Paris:20260423T171500
DTEND;TZID=Europe/Paris:20260423T181500
DTSTAMP:20260422T022938
CREATED:20250823T165158Z
LAST-MODIFIED:20250823T165158Z
UID:1509-1776964500-1776968100@kinderchor-bayreuth.de
SUMMARY:Jugendchor-Probe
DESCRIPTION:
URL:https://kinderchor-bayreuth.de/termine/jugendchor-probe-13/
LOCATION:HfK\, Wilhelminenstraße 9\, Bayreuth\, 95444\, Germany
CATEGORIES:Jugendchor
END:VEVENT
BEGIN:VEVENT
DTSTART;TZID=Europe/Paris:20260430T150000
DTEND;TZID=Europe/Paris:20260430T154500
DTSTAMP:20260422T022938
CREATED:20250823T174515Z
LAST-MODIFIED:20250823T174515Z
UID:1575-1777561200-1777563900@kinderchor-bayreuth.de
SUMMARY:Spatzenchor-Probe
DESCRIPTION:
URL:https://kinderchor-bayreuth.de/termine/spatzenchor-probe-14/
LOCATION:HfK\, Wilhelminenstraße 9\, Bayreuth\, 95444\, Germany
CATEGORIES:Spatzenchor
END:VEVENT
BEGIN:VEVENT
DTSTART;TZID=Europe/Paris:20260430T160000
DTEND;TZID=Europe/Paris:20260430T170000
DTSTAMP:20260422T022938
CREATED:20250823T160207Z
LAST-MODIFIED:20250823T164731Z
UID:1445-1777564800-1777568400@kinderchor-bayreuth.de
SUMMARY:Kinderchor-Probe
DESCRIPTION:
URL:https://kinderchor-bayreuth.de/termine/kinderchor-probe-14/
LOCATION:HfK\, Wilhelminenstraße 9\, Bayreuth\, 95444\, Germany
CATEGORIES:Kinderchor
END:VEVENT
BEGIN:VEVENT
DTSTART;TZID=Europe/Paris:20260430T171500
DTEND;TZID=Europe/Paris:20260430T181500
DTSTAMP:20260422T022938
CREATED:20250823T165225Z
LAST-MODIFIED:20250823T165235Z
UID:1512-1777569300-1777572900@kinderchor-bayreuth.de
SUMMARY:Jugendchor-Probe
DESCRIPTION:
URL:https://kinderchor-bayreuth.de/termine/jugendchor-probe-14/
LOCATION:HfK\, Wilhelminenstraße 9\, Bayreuth\, 95444\, Germany
CATEGORIES:Jugendchor
END:VEVENT
END:VCALENDAR